Workbook

Sheet Productos
A1: Control de stock — Productos
A3: Código | B3: Nombre | C3: Categoría | D3: Costo unitario | E3: Stock actual | F3: Stock mínimo | G3: Reponer
A4: SKU-10241 | B4: Guante nitrilo T9 | C4: Protección | D4: 5200 | E4: 48 | F4: 20 | G4: =IF(E4<=F4,"SÍ","")
A5: SKU-10188 | B5: Casco H700 blanco | C5: Protección | D5: 16400 | E5: 12 | F5: 15 | G5: =IF(E5<=F5,"SÍ","")
A6: SKU-10305 | B6: Botín seguridad 42 | C6: Calzado | D6: 41800 | E6: 30 | F6: 10 | G6: =IF(E6<=F6,"SÍ","")
A7: SKU-10412 | B7: Antiparra policarbonato | C7: Protección | D7: 3900 | E7: 6 | F7: 25 | G7: =IF(E7<=F7,"SÍ","")
A9: Creado por Gesteva — gesteva.com · Cuando la planilla te quede chica, probá Gesteva gratis.

Sheet Movimientos
A1: Control de stock — Movimientos
A3: Fecha | B3: Tipo | C3: Producto | D3: Cantidad | E3: Saldo
A4: 46237.125 | B4: Entrada | C4: Guante nitrilo T9 | D4: 60 | E4: =IF(B4="Entrada",D4,-D4)
A5: 46242.125 | B5: Salida | C5: Guante nitrilo T9 | D5: 12 | E5: =E4+IF(B5="Entrada",D5,-D5)
A6: 46249.125 | B6: Salida | C6: Guante nitrilo T9 | D6: 20 | E6: =E5+IF(B6="Entrada",D6,-D6)
A9: Creado por Gesteva — gesteva.com · Cuando la planilla te quede chica, probá Gesteva gratis.

Sheet Valorización
A1: Control de stock — Inventario valorizado
A3: Código | B3: Producto | C3: Existencias | D3: Costo unitario | E3: Valorizado
A4: =Productos!A4 | B4: =Productos!B4 | C4: =Productos!E4 | D4: =Productos!D4 | E4: =C4*D4
A5: =Productos!A5 | B5: =Productos!B5 | C5: =Productos!E5 | D5: =Productos!D5 | E5: =C5*D5
A6: =Productos!A6 | B6: =Productos!B6 | C6: =Productos!E6 | D6: =Productos!D6 | E6: =C6*D6
A7: =Productos!A7 | B7: =Productos!B7 | C7: =Productos!E7 | D7: =Productos!D7 | E7: =C7*D7
D8: Total general | E8: =SUM(E4:E7)
A10: Creado por Gesteva — gesteva.com · Cuando la planilla te quede chica, probá Gesteva gratis.
